BEGIN:VCALENDAR
VERSION:2.0
PRODID:-//wp-events-plugin.com//6.6.3//EN
TZID:Asia/Tokyo
X-WR-TIMEZONE:Asia/Tokyo
BEGIN:VEVENT
UID:34@kyouganji-1672.com
DTSTART;TZID=Asia/Tokyo:20260521T140000
DTEND;TZID=Asia/Tokyo:20260521T150000
DTSTAMP:20251120T170033Z
URL:https://kyouganji-1672.com/?event=%e8%a6%aa%e9%b8%9e%e8%81%96%e4%ba%ba
 %e9%99%8d%e8%aa%95%e4%bc%9a-3
SUMMARY:親鸞聖人降誕会
DESCRIPTION:
END:VEVENT
BEGIN:VEVENT
UID:35@kyouganji-1672.com
DTSTART;TZID=Asia/Tokyo:20260705T080000
DTEND;TZID=Asia/Tokyo:20260705T120000
DTSTAMP:20251120T170131Z
URL:https://kyouganji-1672.com/?event=%e6%a4%8d%e6%9c%a8%e3%81%ae%e5%89%aa
 %e5%ae%9a%e5%a5%89%e4%bb%95
SUMMARY:植木の剪定奉仕
DESCRIPTION:
END:VEVENT
BEGIN:VEVENT
UID:36@kyouganji-1672.com
DTSTART;TZID=Asia/Tokyo:20260915T090000
DTEND;TZID=Asia/Tokyo:20260915T110000
DTSTAMP:20251120T170201Z
URL:https://kyouganji-1672.com/?event=%e4%bb%8f%e6%95%99%e5%a9%a6%e4%ba%ba
 %e4%bc%9a%e6%b8%85%e6%8e%83%e5%a5%89%e4%bb%95-3
SUMMARY:仏教婦人会清掃奉仕
DESCRIPTION:
END:VEVENT
BEGIN:VEVENT
UID:37@kyouganji-1672.com
DTSTART;TZID=Asia/Tokyo:20260921T140000
DTEND;TZID=Asia/Tokyo:20260923T160000
DTSTAMP:20251120T170458Z
URL:https://kyouganji-1672.com/?event=%e7%a7%8b%e5%ad%a3%e5%bd%bc%e5%b2%b8
 %e4%bc%9a-3
SUMMARY:秋季彼岸会
DESCRIPTION:二十一日（月）昼座二時　総代並世話人追悼法
 要\n二十二日（火）昼座二時　仏教婦人会役員追悼法要
 \n二十三日（水）昼座二時　戦没者追悼法要
END:VEVENT
BEGIN:VEVENT
UID:38@kyouganji-1672.com
DTSTART;TZID=Asia/Tokyo:20261001T090000
DTEND;TZID=Asia/Tokyo:20261001T110000
DTSTAMP:20251120T170544Z
URL:https://kyouganji-1672.com/?event=%e4%bb%8f%e6%95%99%e5%a9%a6%e4%ba%ba
 %e4%bc%9a%e4%bb%8f%e5%85%b7%e7%a3%a8%e3%81%8d-3
SUMMARY:仏教婦人会仏具磨き
DESCRIPTION:
END:VEVENT
BEGIN:VEVENT
UID:39@kyouganji-1672.com
DTSTART;TZID=Asia/Tokyo:20261010T140000
DTEND;TZID=Asia/Tokyo:20261010T160000
DTSTAMP:20251120T170608Z
URL:https://kyouganji-1672.com/?event=%e5%a0%b1%e6%81%a9%e8%ac%9b%e6%b3%95
 %e8%a6%81-3
SUMMARY:報恩講法要
DESCRIPTION:
END:VEVENT
BEGIN:VEVENT
UID:40@kyouganji-1672.com
DTSTART;TZID=Asia/Tokyo:20261231T230000
DTEND;TZID=Asia/Tokyo:20261231T234500
DTSTAMP:20251120T170703Z
URL:https://kyouganji-1672.com/?event=%e9%99%a4%e5%a4%9c%e4%bc%9a-3
SUMMARY:除夜会
DESCRIPTION:
END:VEVENT
BEGIN:VTIMEZONE
TZID:Asia/Tokyo
X-LIC-LOCATION:Asia/Tokyo
BEGIN:STANDARD
DTSTART:20250521T140000
TZOFFSETFROM:+0900
TZOFFSETTO:+0900
TZNAME:JST
END:STANDARD
END:VTIMEZONE
END:VCALENDAR