BEGIN:VCALENDAR
VERSION:2.0
PRODID:-//wp-events-plugin.com//6.6.3//EN
TZID:Asia/Tokyo
X-WR-TIMEZONE:Asia/Tokyo
BEGIN:VEVENT
UID:26@kyouganji-1672.com
DTSTART;TZID=Asia/Tokyo:20251231T233000
DTEND;TZID=Asia/Tokyo:20260101T000000
DTSTAMP:20250130T225306Z
URL:https://kyouganji-1672.com/?event=%e9%99%a4%e5%a4%9c%e4%bc%9a-2
SUMMARY:除夜会
DESCRIPTION:
END:VEVENT
BEGIN:VTIMEZONE
TZID:Asia/Tokyo
X-LIC-LOCATION:Asia/Tokyo
BEGIN:STANDARD
DTSTART:20241231T233000
TZOFFSETFROM:+0900
TZOFFSETTO:+0900
TZNAME:JST
END:STANDARD
END:VTIMEZONE
END:VCALENDAR