BEGIN:VCALENDAR
VERSION:2.0
PRODID:-//wp-events-plugin.com//6.6.3//EN
TZID:Asia/Tokyo
X-WR-TIMEZONE:Asia/Tokyo
BEGIN:VEVENT
UID:7@kyouganji-1672.com
DTSTART;TZID=Asia/Tokyo:20240521T140000
DTEND;TZID=Asia/Tokyo:20240521T150000
DTSTAMP:20240201T073322Z
URL:https://kyouganji-1672.com/?event=%e8%a6%aa%e9%b8%9e%e8%81%96%e4%ba%ba
 %e9%99%8d%e8%aa%95%e4%bc%9a
SUMMARY:親鸞聖人降誕会
DESCRIPTION:
END:VEVENT
BEGIN:VTIMEZONE
TZID:Asia/Tokyo
X-LIC-LOCATION:Asia/Tokyo
BEGIN:STANDARD
DTSTART:20230522T140000
TZOFFSETFROM:+0900
TZOFFSETTO:+0900
TZNAME:JST
END:STANDARD
END:VTIMEZONE
END:VCALENDAR