BEGIN:VCALENDAR
VERSION:2.0
PRODID:-//wp-events-plugin.com//6.6.3//EN
TZID:Asia/Tokyo
X-WR-TIMEZONE:Asia/Tokyo
BEGIN:VEVENT
UID:6@kyouganji-1672.com
DTSTART;TZID=Asia/Tokyo:20240429T140000
DTEND;TZID=Asia/Tokyo:20240429T160000
DTSTAMP:20240201T073235Z
URL:https://kyouganji-1672.com/?event=%e6%b0%b8%e4%bb%a3%e7%b5%8c%e6%b3%95
 %e8%a6%81
SUMMARY:永代経法要
DESCRIPTION:
END:VEVENT
BEGIN:VTIMEZONE
TZID:Asia/Tokyo
X-LIC-LOCATION:Asia/Tokyo
BEGIN:STANDARD
DTSTART:20230430T140000
TZOFFSETFROM:+0900
TZOFFSETTO:+0900
TZNAME:JST
END:STANDARD
END:VTIMEZONE
END:VCALENDAR