BEGIN:VCALENDAR
VERSION:2.0
PRODID:-//wp-events-plugin.com//6.6.3//EN
TZID:Asia/Tokyo
X-WR-TIMEZONE:Asia/Tokyo
BEGIN:VEVENT
UID:21@kyouganji-1672.com
DTSTART;TZID=Asia/Tokyo:20250406T080000
DTEND;TZID=Asia/Tokyo:20250406T120000
DTSTAMP:20250130T224706Z
URL:https://kyouganji-1672.com/?event=%e6%a4%8d%e6%9c%a8%e5%89%aa%e5%ae%9a
 %e6%b8%85%e6%8e%83%e5%a5%89%e4%bb%95
SUMMARY:植木剪定清掃奉仕
DESCRIPTION:
END:VEVENT
BEGIN:VTIMEZONE
TZID:Asia/Tokyo
X-LIC-LOCATION:Asia/Tokyo
BEGIN:STANDARD
DTSTART:20240406T080000
TZOFFSETFROM:+0900
TZOFFSETTO:+0900
TZNAME:JST
END:STANDARD
END:VTIMEZONE
END:VCALENDAR