BEGIN:VCALENDAR
VERSION:2.0
PRODID:-//wp-events-plugin.com//6.6.3//EN
TZID:Asia/Tokyo
X-WR-TIMEZONE:Asia/Tokyo
BEGIN:VEVENT
UID:35@kyouganji-1672.com
DTSTART;TZID=Asia/Tokyo:20260705T080000
DTEND;TZID=Asia/Tokyo:20260705T120000
DTSTAMP:20251120T170131Z
URL:https://kyouganji-1672.com/?event=%e6%a4%8d%e6%9c%a8%e3%81%ae%e5%89%aa
 %e5%ae%9a%e5%a5%89%e4%bb%95
SUMMARY:植木の剪定奉仕
DESCRIPTION:
END:VEVENT
BEGIN:VTIMEZONE
TZID:Asia/Tokyo
X-LIC-LOCATION:Asia/Tokyo
BEGIN:STANDARD
DTSTART:20250705T080000
TZOFFSETFROM:+0900
TZOFFSETTO:+0900
TZNAME:JST
END:STANDARD
END:VTIMEZONE
END:VCALENDAR