BEGIN:VCALENDAR
VERSION:2.0
PRODID:-//wp-events-plugin.com//6.6.3//EN
TZID:Asia/Tokyo
X-WR-TIMEZONE:Asia/Tokyo
BEGIN:VEVENT
UID:25@kyouganji-1672.com
DTSTART;TZID=Asia/Tokyo:20251011T140000
DTEND;TZID=Asia/Tokyo:20251011T160000
DTSTAMP:20250130T225105Z
URL:https://kyouganji-1672.com/?event=%e5%a0%b1%e6%81%a9%e8%ac%9b%e6%b3%95
 %e8%a6%81-2
SUMMARY:報恩講法要
DESCRIPTION:法話講師：広島教区　能美潤史
END:VEVENT
BEGIN:VTIMEZONE
TZID:Asia/Tokyo
X-LIC-LOCATION:Asia/Tokyo
BEGIN:STANDARD
DTSTART:20241011T140000
TZOFFSETFROM:+0900
TZOFFSETTO:+0900
TZNAME:JST
END:STANDARD
END:VTIMEZONE
END:VCALENDAR