BEGIN:VCALENDAR
VERSION:2.0
PRODID:-//wp-events-plugin.com//6.6.3//EN
TZID:Asia/Tokyo
X-WR-TIMEZONE:Asia/Tokyo
BEGIN:VEVENT
UID:28@kyouganji-1672.com
DTSTART;TZID=Asia/Tokyo:20260101T000000
DTEND;TZID=Asia/Tokyo:20260101T010000
DTSTAMP:20251120T165413Z
URL:https://kyouganji-1672.com/?event=%e5%85%83%e6%97%a6%e4%bc%9a-4
SUMMARY:元旦会
DESCRIPTION:
END:VEVENT
BEGIN:VTIMEZONE
TZID:Asia/Tokyo
X-LIC-LOCATION:Asia/Tokyo
BEGIN:STANDARD
DTSTART:20250101T000000
TZOFFSETFROM:+0900
TZOFFSETTO:+0900
TZNAME:JST
END:STANDARD
END:VTIMEZONE
END:VCALENDAR