BEGIN:VCALENDAR
VERSION:2.0
PRODID:-//wp-events-plugin.com//6.6.3//EN
TZID:Asia/Tokyo
X-WR-TIMEZONE:Asia/Tokyo
BEGIN:VEVENT
UID:15@kyouganji-1672.com
DTSTART;TZID=Asia/Tokyo:20250111T140000
DTEND;TZID=Asia/Tokyo:20250111T150000
DTSTAMP:20250130T223837Z
URL:https://kyouganji-1672.com/?event=%e3%81%8a%e4%b8%83%e5%a4%9c
SUMMARY:お七夜
DESCRIPTION:
END:VEVENT
BEGIN:VTIMEZONE
TZID:Asia/Tokyo
X-LIC-LOCATION:Asia/Tokyo
BEGIN:STANDARD
DTSTART:20240112T140000
TZOFFSETFROM:+0900
TZOFFSETTO:+0900
TZNAME:JST
END:STANDARD
END:VTIMEZONE
END:VCALENDAR